BEGIN:VCALENDAR
VERSION:2.0
PRODID:-//Sub-C-Divers - ECPv6.5.1.5//NONSGML v1.0//EN
CALSCALE:GREGORIAN
METHOD:PUBLISH
X-WR-CALNAME:Sub-C-Divers
X-ORIGINAL-URL:https://www.subcdivers.co.uk
X-WR-CALDESC:Events for Sub-C-Divers
REFRESH-INTERVAL;VALUE=DURATION:PT1H
X-Robots-Tag:noindex
X-PUBLISHED-TTL:PT1H
BEGIN:VTIMEZONE
TZID:Europe/London
BEGIN:DAYLIGHT
TZOFFSETFROM:+0000
TZOFFSETTO:+0100
TZNAME:BST
DTSTART:20240331T010000
END:DAYLIGHT
BEGIN:STANDARD
TZOFFSETFROM:+0100
TZOFFSETTO:+0000
TZNAME:GMT
DTSTART:20241027T010000
END:STANDARD
BEGIN:DAYLIGHT
TZOFFSETFROM:+0000
TZOFFSETTO:+0100
TZNAME:BST
DTSTART:20250330T010000
END:DAYLIGHT
BEGIN:STANDARD
TZOFFSETFROM:+0100
TZOFFSETTO:+0000
TZNAME:GMT
DTSTART:20251026T010000
END:STANDARD
BEGIN:DAYLIGHT
TZOFFSETFROM:+0000
TZOFFSETTO:+0100
TZNAME:BST
DTSTART:20260329T010000
END:DAYLIGHT
BEGIN:STANDARD
TZOFFSETFROM:+0100
TZOFFSETTO:+0000
TZNAME:GMT
DTSTART:20261025T010000
END:STANDARD
END:VTIMEZONE
BEGIN:VEVENT
DTSTART;VALUE=DATE:20241020
DTEND;VALUE=DATE:20241021
DTSTAMP:20260423T075422
CREATED:20240910T182427Z
LAST-MODIFIED:20241003T173956Z
UID:7886-1729382400-1729468799@www.subcdivers.co.uk
SUMMARY:Sport Diver / Dive Leader 20th October tng
DESCRIPTION:
URL:https://www.subcdivers.co.uk/event/sport-diver-20th-october-tng/
CATEGORIES:Training
ATTACH;FMTTYPE=image/gif:https://www.subcdivers.co.uk/content/uploads/Capernwray_dive-map-A4-scaled.gif
END:VEVENT
BEGIN:VEVENT
DTSTART;TZID=Europe/London:20241103T080000
DTEND;TZID=Europe/London:20241103T170000
DTSTAMP:20260423T075422
CREATED:20241023T151417Z
LAST-MODIFIED:20241023T151417Z
UID:8005-1730620800-1730653200@www.subcdivers.co.uk
SUMMARY:Ocean Diver Training 3rd November
DESCRIPTION:Ocean Diver Training 3rd November
URL:https://www.subcdivers.co.uk/event/ocean-diver-training-3rd-november/
CATEGORIES:Training
END:VEVENT
BEGIN:VEVENT
DTSTART;TZID=Europe/London:20241117T080000
DTEND;TZID=Europe/London:20241117T170000
DTSTAMP:20260423T075422
CREATED:20241023T151908Z
LAST-MODIFIED:20241023T151908Z
UID:8008-1731830400-1731862800@www.subcdivers.co.uk
SUMMARY:Sports Diver/ Dive Leader Training
DESCRIPTION:Sports Diver/ Dive Leader Training
URL:https://www.subcdivers.co.uk/event/sports-diver-dive-leader-training-2/
CATEGORIES:Training
END:VEVENT
BEGIN:VEVENT
DTSTART;VALUE=DATE:20250119
DTEND;VALUE=DATE:20250120
DTSTAMP:20260423T075422
CREATED:20250109T055743Z
LAST-MODIFIED:20250114T144138Z
UID:8125-1737244800-1737331199@www.subcdivers.co.uk
SUMMARY:Sport Diver / Dive Leader 19th Jan
DESCRIPTION:Back to it…Nice n cold …Sport Diver and Dive Leader training Capenwray.
URL:https://www.subcdivers.co.uk/event/sport-diver-dive-leader-19th-jan/
CATEGORIES:Diving,Training
ATTACH;FMTTYPE=image/gif:https://www.subcdivers.co.uk/content/uploads/Capernwray_dive-map-A4-scaled.gif
ORGANIZER;CN="Mike Rickard":MAILTO:divingofficer@subcdivers.co.uk
END:VEVENT
BEGIN:VEVENT
DTSTART;VALUE=DATE:20250202
DTEND;VALUE=DATE:20250203
DTSTAMP:20260423T075422
CREATED:20250122T220155Z
LAST-MODIFIED:20250122T220155Z
UID:8173-1738454400-1738540799@www.subcdivers.co.uk
SUMMARY:Ocean diver training 2nd Feb
DESCRIPTION:Our next Ocean Diver training session is now available  to book on.Capenwray…..with your clubs fantastic instructors
URL:https://www.subcdivers.co.uk/event/ocean-diver-training-2nd-feb/
LOCATION:Capernwray\, Jackdaw Quarry\, Capernwray Rd\,\, Carnforth\, LA6 1AD\, United Kingdom
CATEGORIES:Training
ATTACH;FMTTYPE=image/gif:https://www.subcdivers.co.uk/content/uploads/Capernwray_dive-map-A4-scaled.gif
ORGANIZER;CN="Mike Rickard":MAILTO:divingofficer@subcdivers.co.uk
END:VEVENT
BEGIN:VEVENT
DTSTART;TZID=Europe/London:20250205T210000
DTEND;TZID=Europe/London:20250205T220000
DTSTAMP:20260423T075422
CREATED:20250130T215913Z
LAST-MODIFIED:20250130T215913Z
UID:8198-1738789200-1738792800@www.subcdivers.co.uk
SUMMARY:Rescue Skills Practice Session - Instructors and Assistant Instructors
DESCRIPTION:These sessions are an opportunity to practice pool rescue skills\, the skills that we will be focusing on are: \n\nShared air ascent\nControlled buoyant lift\nTowing with rescue breaths and de-kit\n\nIt is good to keep these vital skills up to date. \nThis is the first of the two sessions and will be for instructors and assistant instructors. \n 
URL:https://www.subcdivers.co.uk/event/rescue-skills-practice-session-instructors-and-assistant-instructors/
LOCATION:Howe Bridge Leisure Centre\, Eckersley Fold Lane\, Atherton\, Manchester\, M46 0PJ\, United Kingdom
CATEGORIES:Training
ATTACH;FMTTYPE=image/jpeg:https://www.subcdivers.co.uk/content/uploads/343919868_957152561970980_6052966872800945893_n.jpg
END:VEVENT
BEGIN:VEVENT
DTSTART;TZID=Europe/London:20250212T210000
DTEND;TZID=Europe/London:20250212T220000
DTSTAMP:20260423T075422
CREATED:20250130T220447Z
LAST-MODIFIED:20250130T220447Z
UID:8201-1739394000-1739397600@www.subcdivers.co.uk
SUMMARY:Rescue Skills Practice Sessions - All members
DESCRIPTION:These sessions are an opportunity to practice pool rescue skills\, the skills that we will be focusing on are: \n\nShared air ascent\nControlled buoyant lift\nTowing with rescue breaths and de-kit\n\nIt is good to keep these vital skills up to date. \nThis is the first of the two sessions and will be for instructors and assistant instructors. \n 
URL:https://www.subcdivers.co.uk/event/rescue-skills-practice-sessions-all-members/
CATEGORIES:Training
ATTACH;FMTTYPE=image/jpeg:https://www.subcdivers.co.uk/content/uploads/343322739_973344550518217_5679725876129641438_n.jpg
END:VEVENT
BEGIN:VEVENT
DTSTART;VALUE=DATE:20250216
DTEND;VALUE=DATE:20250217
DTSTAMP:20260423T075422
CREATED:20250122T221008Z
LAST-MODIFIED:20250122T221008Z
UID:8176-1739664000-1739750399@www.subcdivers.co.uk
SUMMARY:SD/DL Training 16th Feb
DESCRIPTION:All our trainee SD and DL’s \, here’s a chance to book on the next training session at Capenwray 16th Feb
URL:https://www.subcdivers.co.uk/event/sd-dl-training-16th-feb/
LOCATION:Capernwray\, Jackdaw Quarry\, Capernwray Rd\,\, Carnforth\, LA6 1AD\, United Kingdom
CATEGORIES:Training
ATTACH;FMTTYPE=image/jpeg:https://www.subcdivers.co.uk/content/uploads/Screenshot_20240915_181229_Drive.jpg
ORGANIZER;CN="Mike Rickard":MAILTO:divingofficer@subcdivers.co.uk
END:VEVENT
BEGIN:VEVENT
DTSTART;TZID=Europe/London:20250223T100000
DTEND;TZID=Europe/London:20250223T160000
DTSTAMP:20260423T075422
CREATED:20250130T221709Z
LAST-MODIFIED:20250203T201051Z
UID:8209-1740304800-1740326400@www.subcdivers.co.uk
SUMMARY:Dive Leader Theory Training
DESCRIPTION:This course is perfect for BSAC members who want to take a more active role in their club and/or become an Open Water Instructor. \nDive Leaders are key members of their BSAC clubs who are able to lead inexperienced and experienced divers to gain new experiences.  They are also able to organise dives and have the skills to deal with situations where something unexpected may have occurred. \nTo enrol on a Dive Leader course you must have successfully completed a Sports Diver course\, other agency equivalent and have a nitrox qualification.  You must also be aged 14 years or older. \nSports Divers aged between 12 and 14 can complete the elements of Dive Leader training that do not require diving deeper than 20m. \nThe qualification is accredited  to the International Standard ISO24801-3 (2014) ‘Training for Dive Leader’. \n 
URL:https://www.subcdivers.co.uk/event/dive-leader-theory-training/
CATEGORIES:Training
ATTACH;FMTTYPE=image/png:https://www.subcdivers.co.uk/content/uploads/Screenshot-2025-01-30-at-22.16.07.png
END:VEVENT
BEGIN:VEVENT
DTSTART;TZID=Europe/London:20250302T080000
DTEND;TZID=Europe/London:20250302T170000
DTSTAMP:20260423T075422
CREATED:20250221T210959Z
LAST-MODIFIED:20250221T210959Z
UID:8350-1740902400-1740934800@www.subcdivers.co.uk
SUMMARY:Ocean Diver Training Day 2nd March
DESCRIPTION:Ocean Diver Training Day 2nd March at Capernwray.
URL:https://www.subcdivers.co.uk/event/ocean-diver-training-day-2nd-march/
CATEGORIES:Training
END:VEVENT
BEGIN:VEVENT
DTSTART;TZID=Europe/London:20250302T100000
DTEND;TZID=Europe/London:20250302T160000
DTSTAMP:20260423T075422
CREATED:20250130T221943Z
LAST-MODIFIED:20250130T221943Z
UID:8213-1740909600-1740931200@www.subcdivers.co.uk
SUMMARY:Dive Leader Theory Training
DESCRIPTION:This course is perfect for BSAC members who want to take a more active role in their club and/or become an Open Water Instructor. \nDive Leaders are key members of their BSAC clubs who are able to lead inexperienced and experienced divers to gain new experiences.  They are also able to organise dives and have the skills to deal with situations where something unexpected may have occurred. \nTo enrol on a Dive Leader course you must have successfully completed a Sports Diver course\, other agency equivalent and have a nitrox qualification.  You must also be aged 14 years or older. \nSports Divers aged between 12 and 14 can complete the elements of Dive Leader training that do not require diving deeper than 20m. \nThe qualification is accredited  to the International Standard ISO24801-3 (2014) ‘Training for Dive Leader’. \n 
URL:https://www.subcdivers.co.uk/event/dive-leader-theory-training-2/
CATEGORIES:Training
ATTACH;FMTTYPE=image/png:https://www.subcdivers.co.uk/content/uploads/Screenshot-2025-01-30-at-22.16.07.png
END:VEVENT
BEGIN:VEVENT
DTSTART;TZID=Europe/London:20250316T080000
DTEND;TZID=Europe/London:20250316T170000
DTSTAMP:20260423T075422
CREATED:20250221T211244Z
LAST-MODIFIED:20250221T211244Z
UID:8353-1742112000-1742144400@www.subcdivers.co.uk
SUMMARY:SD/DL Training Day 16/3
DESCRIPTION:Training Day at Capernwray
URL:https://www.subcdivers.co.uk/event/sd-dl-training-day-16-3/
CATEGORIES:Training
END:VEVENT
BEGIN:VEVENT
DTSTART;VALUE=DATE:20250413
DTEND;VALUE=DATE:20250414
DTSTAMP:20260423T075422
CREATED:20250327T102826Z
LAST-MODIFIED:20250327T115009Z
UID:8423-1744502400-1744588799@www.subcdivers.co.uk
SUMMARY:Training day general 13th April Sun
DESCRIPTION:Hi\, your Fantastic instructors are having a general training day 13th April \,Sunday @ Capenwray. Any special requests let them know….
URL:https://www.subcdivers.co.uk/event/training-day-general-13th-april-sun/
CATEGORIES:Diving,Training
ATTACH;FMTTYPE=image/gif:https://www.subcdivers.co.uk/content/uploads/Capernwray_dive-map-A4-scaled.gif
END:VEVENT
BEGIN:VEVENT
DTSTART;VALUE=DATE:20250518
DTEND;VALUE=DATE:20250519
DTSTAMP:20260423T075422
CREATED:20250502T064205Z
LAST-MODIFIED:20250502T064205Z
UID:8519-1747526400-1747612799@www.subcdivers.co.uk
SUMMARY:SD/DL TRAINING CAPENWRAY 18TH MAY
DESCRIPTION:We are running our Sport Diver and Dive leader training on the 18th at Capernwray
URL:https://www.subcdivers.co.uk/event/sd-dl-training-capenwray-18th-may/
CATEGORIES:Training
ATTACH;FMTTYPE=image/jpeg:https://www.subcdivers.co.uk/content/uploads/scuba-diving-safety-2024-1024.jpg
END:VEVENT
BEGIN:VEVENT
DTSTART;TZID=Europe/London:20250521T210000
DTEND;TZID=Europe/London:20250521T220000
DTSTAMP:20260423T075422
CREATED:20250513T222858Z
LAST-MODIFIED:20250513T222858Z
UID:8537-1747861200-1747864800@www.subcdivers.co.uk
SUMMARY:Pool Rescue training
DESCRIPTION:Pool session rescue skills and drills
URL:https://www.subcdivers.co.uk/event/pool-rescue-training/
LOCATION:howebridge leisure centre
CATEGORIES:Training
ATTACH;FMTTYPE=image/jpeg:https://www.subcdivers.co.uk/content/uploads/331440884_540994661208799_8159813490259958759_n.jpg
END:VEVENT
BEGIN:VEVENT
DTSTART;TZID=Europe/London:20250604T190000
DTEND;TZID=Europe/London:20250604T200000
DTSTAMP:20260423T075422
CREATED:20250513T223528Z
LAST-MODIFIED:20250513T223528Z
UID:8541-1749063600-1749067200@www.subcdivers.co.uk
SUMMARY:Basic life support / AED
DESCRIPTION:BLS / AED
URL:https://www.subcdivers.co.uk/event/basic-life-support-aed/
CATEGORIES:Training
ATTACH;FMTTYPE=image/jpeg:https://www.subcdivers.co.uk/content/uploads/IMG-20180922-WA0010.jpg
END:VEVENT
BEGIN:VEVENT
DTSTART;VALUE=DATE:20250622
DTEND;VALUE=DATE:20250623
DTSTAMP:20260423T075422
CREATED:20250531T222948Z
LAST-MODIFIED:20250531T222948Z
UID:8573-1750550400-1750636799@www.subcdivers.co.uk
SUMMARY:Capenwray training day 22nd June
DESCRIPTION:Training day at Capenwray.Ask Carl\,Stella and Chris for details
URL:https://www.subcdivers.co.uk/event/capenwray-training-day-22nd-june/
CATEGORIES:Training
ATTACH;FMTTYPE=image/gif:https://www.subcdivers.co.uk/content/uploads/Capernwray_dive-map-A4-scaled.gif
END:VEVENT
BEGIN:VEVENT
DTSTART;VALUE=DATE:20250629
DTEND;VALUE=DATE:20250630
DTSTAMP:20260423T075422
CREATED:20250531T223633Z
LAST-MODIFIED:20250531T223728Z
UID:8576-1751155200-1751241599@www.subcdivers.co.uk
SUMMARY:Stoney cove 29 th June
DESCRIPTION:We are planning a trip to Stoney Cove.Speak to Chris H for details
URL:https://www.subcdivers.co.uk/event/stoney-cove-27th-june/
CATEGORIES:Training
ATTACH;FMTTYPE=image/jpeg:https://www.subcdivers.co.uk/content/uploads/IMG_20200623_223004_915.jpg
END:VEVENT
BEGIN:VEVENT
DTSTART;VALUE=DATE:20250727
DTEND;VALUE=DATE:20250728
DTSTAMP:20260423T075422
CREATED:20250531T224241Z
LAST-MODIFIED:20250601T080359Z
UID:8580-1753574400-1753660799@www.subcdivers.co.uk
SUMMARY:Buoyancy and trim workshop 27 july
DESCRIPTION:Buoyancy and trim workshop.A fantastic skill and qualification to have.Capenwray will be the venue for this
URL:https://www.subcdivers.co.uk/event/buoyancy-and-trim-workshop-27-july/
CATEGORIES:Training
ATTACH;FMTTYPE=image/jpeg:https://www.subcdivers.co.uk/content/uploads/Screenshot_20240915_181229_Drive.jpg
END:VEVENT
BEGIN:VEVENT
DTSTART;VALUE=DATE:20250824
DTEND;VALUE=DATE:20250825
DTSTAMP:20260423T075422
CREATED:20250808T100135Z
LAST-MODIFIED:20250808T100135Z
UID:8707-1755993600-1756079999@www.subcdivers.co.uk
SUMMARY:24th Aug SD/ DL tng Capers
DESCRIPTION:
URL:https://www.subcdivers.co.uk/event/24th-aug-sd-dl-tng-capers/
CATEGORIES:Training
ATTACH;FMTTYPE=image/gif:https://www.subcdivers.co.uk/content/uploads/Capernwray_dive-map-A4-scaled.gif
END:VEVENT
BEGIN:VEVENT
DTSTART;VALUE=DATE:20250907
DTEND;VALUE=DATE:20250908
DTSTAMP:20260423T075422
CREATED:20250826T203223Z
LAST-MODIFIED:20250826T203223Z
UID:8723-1757203200-1757289599@www.subcdivers.co.uk
SUMMARY:Ocean Diver tng 7th SEPT
DESCRIPTION:Ocean Diver training.However\, ask Stella if you want to come n dive for fun or have any special requests
URL:https://www.subcdivers.co.uk/event/ocean-diver-tng-7th-sept/
CATEGORIES:Training
ATTACH;FMTTYPE=image/gif:https://www.subcdivers.co.uk/content/uploads/Capernwray_dive-map-A4-scaled.gif
END:VEVENT
BEGIN:VEVENT
DTSTART;VALUE=DATE:20251012
DTEND;VALUE=DATE:20251013
DTSTAMP:20260423T075422
CREATED:20251001T215337Z
LAST-MODIFIED:20251001T215337Z
UID:8882-1760227200-1760313599@www.subcdivers.co.uk
SUMMARY:SD/ DL TNG 12TH OCT
DESCRIPTION:Sport diver / Dive leader training at Capenwray
URL:https://www.subcdivers.co.uk/event/sd-dl-tng-12th-oct/
CATEGORIES:Training
ATTACH;FMTTYPE=image/gif:https://www.subcdivers.co.uk/content/uploads/Capernwray_dive-map-A4-scaled.gif
END:VEVENT
BEGIN:VEVENT
DTSTART;VALUE=DATE:20251019
DTEND;VALUE=DATE:20251020
DTSTAMP:20260423T075422
CREATED:20251001T215734Z
LAST-MODIFIED:20251001T215734Z
UID:8885-1760832000-1760918399@www.subcdivers.co.uk
SUMMARY:Buoyancy and trim workshop 19th OCT
DESCRIPTION:Stella hosting the Buoyancy n trim…hone your skills….get a medal
URL:https://www.subcdivers.co.uk/event/buoyancy-and-trim-workshop-19th-oct/
CATEGORIES:Training
ATTACH;FMTTYPE=image/jpeg:https://www.subcdivers.co.uk/content/uploads/GPTempDownload-1-scaled.jpeg
END:VEVENT
BEGIN:VEVENT
DTSTART;VALUE=DATE:20251102
DTEND;VALUE=DATE:20251103
DTSTAMP:20260423T075422
CREATED:20251001T192321Z
LAST-MODIFIED:20251001T192321Z
UID:8856-1762041600-1762127999@www.subcdivers.co.uk
SUMMARY:Ocean Diver Training
DESCRIPTION:Ocean Diver training. \n  \nHowever\, please speak to an instructor if you want to come and dive for fun or have any special requests
URL:https://www.subcdivers.co.uk/event/ocean-diver-training-2/
CATEGORIES:Training
END:VEVENT
BEGIN:VEVENT
DTSTART;VALUE=DATE:20251221
DTEND;VALUE=DATE:20251222
DTSTAMP:20260423T075422
CREATED:20251201T211131Z
LAST-MODIFIED:20251201T211131Z
UID:9039-1766275200-1766361599@www.subcdivers.co.uk
SUMMARY:Training day 21st Dec Capenwray
DESCRIPTION:Hi\, last chance of the year for a training day…Its open to everyone\, just let Stella know what you would like to do…OD\,SD\, DL..
URL:https://www.subcdivers.co.uk/event/training-day-21st-dec-capenwray/
CATEGORIES:Training
ATTACH;FMTTYPE=image/gif:https://www.subcdivers.co.uk/content/uploads/Capernwray_dive-map-A4-scaled.gif
END:VEVENT
BEGIN:VEVENT
DTSTART;TZID=Europe/London:20260118T080000
DTEND;TZID=Europe/London:20260118T170000
DTSTAMP:20260423T075422
CREATED:20260104T134303Z
LAST-MODIFIED:20260104T134303Z
UID:9061-1768723200-1768755600@www.subcdivers.co.uk
SUMMARY:Sports Diver/ Dive Leader Training
DESCRIPTION:Sports Diver/ Dive Leader Training \nat Capernwray Dive Centre\, Jackdaw Quary\, Capernwray Road\, Carnforth\, LA6 1AD \n 
URL:https://www.subcdivers.co.uk/event/sports-diver-dive-leader-training-4/
CATEGORIES:Training
ATTACH;FMTTYPE=image/gif:https://www.subcdivers.co.uk/content/uploads/IMG_6652.gif
END:VEVENT
BEGIN:VEVENT
DTSTART;TZID=Europe/London:20260201T080000
DTEND;TZID=Europe/London:20260201T170000
DTSTAMP:20260423T075422
CREATED:20260104T134728Z
LAST-MODIFIED:20260104T134728Z
UID:9065-1769932800-1769965200@www.subcdivers.co.uk
SUMMARY:Ocean Diver Training
DESCRIPTION:Training at Capernwray \nJackdaw Quarry\nCapernwray Road\nCarnforth\nLA6 1AD
URL:https://www.subcdivers.co.uk/event/ocean-diver-training-3/
CATEGORIES:Training
ATTACH;FMTTYPE=image/gif:https://www.subcdivers.co.uk/content/uploads/IMG_6652.gif
END:VEVENT
BEGIN:VEVENT
DTSTART;TZID=Europe/London:20260215T080000
DTEND;TZID=Europe/London:20260215T170000
DTSTAMP:20260423T075422
CREATED:20260131T212958Z
LAST-MODIFIED:20260207T132156Z
UID:9111-1771142400-1771174800@www.subcdivers.co.uk
SUMMARY:Dive Leader Training at Stoney Cove
DESCRIPTION:We’re planning a Dive Leader training day at Stoney Cove on 15 February\, with a primary focus on depth progression dives. \nStoney offers ideal conditions and site features for structured depth training\, making it a great opportunity for divers who are ready to extend their experience in a controlled environment under instructor supervision. \nIf you’re looking to complete depth progression elements or support depth training as part of instructional cover\, please get in touch to confirm availability.
URL:https://www.subcdivers.co.uk/event/dive-leader-training-at-stoney-cove/
CATEGORIES:Training
ATTACH;FMTTYPE=image/png:https://www.subcdivers.co.uk/content/uploads/ABF139C7-6C59-40B9-8240-E0E162886FDB.png
END:VEVENT
BEGIN:VEVENT
DTSTART;VALUE=DATE:20260322
DTEND;VALUE=DATE:20260323
DTSTAMP:20260423T075422
CREATED:20260219T174132Z
LAST-MODIFIED:20260219T174132Z
UID:9141-1774137600-1774223999@www.subcdivers.co.uk
SUMMARY:SD/DL training Capenwray 22nd March
DESCRIPTION:SD AND DL TRAINING CAPERNWRAY
URL:https://www.subcdivers.co.uk/event/sd-dl-training-capenwray-22nd-march/
CATEGORIES:Training
ATTACH;FMTTYPE=image/png:https://www.subcdivers.co.uk/content/uploads/Screenshot-2025-01-30-at-22.16.07.png
END:VEVENT
BEGIN:VEVENT
DTSTART;TZID=Europe/London:20260419T080000
DTEND;TZID=Europe/London:20260419T170000
DTSTAMP:20260423T075422
CREATED:20260409T113344Z
LAST-MODIFIED:20260409T113344Z
UID:9292-1776585600-1776618000@www.subcdivers.co.uk
SUMMARY:SD/DL TNG CAPERNWRAY 19th April
DESCRIPTION:Sport diver / Dive leader training at Capenwray
URL:https://www.subcdivers.co.uk/event/sd-dl-tng-capernwray-19th-april/
CATEGORIES:Training
ATTACH;FMTTYPE=image/gif:https://www.subcdivers.co.uk/content/uploads/IMG_6652.gif
END:VEVENT
END:VCALENDAR