BEGIN:VCALENDAR
VERSION:2.0
PRODID:-//Sub-C-Divers - ECPv6.5.1.5//NONSGML v1.0//EN
CALSCALE:GREGORIAN
METHOD:PUBLISH
X-WR-CALNAME:Sub-C-Divers
X-ORIGINAL-URL:https://www.subcdivers.co.uk
X-WR-CALDESC:Events for Sub-C-Divers
REFRESH-INTERVAL;VALUE=DURATION:PT1H
X-Robots-Tag:noindex
X-PUBLISHED-TTL:PT1H
BEGIN:VTIMEZONE
TZID:Europe/London
BEGIN:DAYLIGHT
TZOFFSETFROM:+0000
TZOFFSETTO:+0100
TZNAME:BST
DTSTART:20240331T010000
END:DAYLIGHT
BEGIN:STANDARD
TZOFFSETFROM:+0100
TZOFFSETTO:+0000
TZNAME:GMT
DTSTART:20241027T010000
END:STANDARD
END:VTIMEZONE
BEGIN:VEVENT
DTSTART;TZID=Europe/London:20240218T090000
DTEND;TZID=Europe/London:20240218T160000
DTSTAMP:20260423T062119
CREATED:20240119T112601Z
LAST-MODIFIED:20240119T112947Z
UID:7200-1708246800-1708272000@www.subcdivers.co.uk
SUMMARY:Sports Diver and Dive Leader open water Training day
DESCRIPTION:  \nWe are holding an Sports Diver open water training session. \nLocation: Capernwray Dive Centre. (Jackdaw Quarry) \nRequirements: \nYou will need to have completed a Medical form and handed it to our Branch Diving Officer. If you have not filed a medical it will result in your instructor not allowing you to dive on the day. \nYou will need Current BSAC membership. \nYou will also need to join the Capernwray dive centre. There is now a fee of £30 fee for a 2-year membership\, you will need to register online and choose the 2-year diving option\, beyond this Capernwray will charge £15.00 each time you visit\, this fee pays for parking\, and the use of facilities (W.C\, showers\, cafe facilities\, and use of the actual quarry). you can bring a packed lunch and drinks. Air fills are also available for £5.00 per fill. \nYou will need your regular SCUBA gear and if you do not own a DRY SUIT\, you will either need to purchase or borrow one or you can hire them from either Capernwray Dive Centre or Bolton Area Divers. You will also need to Consider borrowing / Hiring a Hood\, some gloves & Sea Fins. \nWe suggest you speak to members of the club or the Equipment Officer but you will need to telephone either of these places below no less than a week prior to make arrangements to hire your Drysuit. \nBolton Area Divers 01204 394441 www.boltonareadivers.co.uk (BAD will also ask for an authorising email from the branch DO before they will allow you to Hire a Drysuit) \nor \nCapernwray   01524 735132    www.dive-site.co.uk  If you are hiring from Caperwray we suggest you arrive at opening time or sooner to speed up the process of collecting your membership card\, then your dry suit\, and the extra weight you will need (although we normally have spare weights) \n 
URL:https://www.subcdivers.co.uk/event/sports-diver-and-dive-leader-open-water-training-day-3/
LOCATION:Capernwray\, Jackdaw Quarry\, Capernwray Rd\,\, Carnforth\, LA6 1AD\, United Kingdom
CATEGORIES:Training
ATTACH;FMTTYPE=image/jpeg:https://www.subcdivers.co.uk/content/uploads/capers-1.jpg
END:VEVENT
END:VCALENDAR