BEGIN:VCALENDAR
VERSION:2.0
PRODID:-//Sub-C-Divers - ECPv6.5.1.5//NONSGML v1.0//EN
CALSCALE:GREGORIAN
METHOD:PUBLISH
X-WR-CALNAME:Sub-C-Divers
X-ORIGINAL-URL:https://www.subcdivers.co.uk
X-WR-CALDESC:Events for Sub-C-Divers
REFRESH-INTERVAL;VALUE=DURATION:PT1H
X-Robots-Tag:noindex
X-PUBLISHED-TTL:PT1H
BEGIN:VTIMEZONE
TZID:Europe/London
BEGIN:DAYLIGHT
TZOFFSETFROM:+0000
TZOFFSETTO:+0100
TZNAME:BST
DTSTART:20240331T010000
END:DAYLIGHT
BEGIN:STANDARD
TZOFFSETFROM:+0100
TZOFFSETTO:+0000
TZNAME:GMT
DTSTART:20241027T010000
END:STANDARD
END:VTIMEZONE
BEGIN:VEVENT
DTSTART;VALUE=DATE:20240927
DTEND;VALUE=DATE:20240928
DTSTAMP:20260422T201919
CREATED:20240912T101957Z
LAST-MODIFIED:20240912T101957Z
UID:7897-1727395200-1727481599@www.subcdivers.co.uk
SUMMARY:BSAC event 27th Sept Capenwray
DESCRIPTION:Bsac are holding an event on 27th Sept.at Capenwray. We went last year and it was really good.Loads.of clubs there\, also some good bargains to be had in the shop and other suppliers there on the day.
URL:https://www.subcdivers.co.uk/event/bsac-event-27th-sept-capenwray/
CATEGORIES:Dive trip,Social
ATTACH;FMTTYPE=image/jpeg:https://www.subcdivers.co.uk/content/uploads/Screenshot_20240912_111209_Chrome.jpg
END:VEVENT
END:VCALENDAR