BEGIN:VCALENDAR
VERSION:2.0
PRODID:-//Sub-C-Divers - ECPv6.5.1.5//NONSGML v1.0//EN
CALSCALE:GREGORIAN
METHOD:PUBLISH
X-WR-CALNAME:Sub-C-Divers
X-ORIGINAL-URL:https://www.subcdivers.co.uk
X-WR-CALDESC:Events for Sub-C-Divers
REFRESH-INTERVAL;VALUE=DURATION:PT1H
X-Robots-Tag:noindex
X-PUBLISHED-TTL:PT1H
BEGIN:VTIMEZONE
TZID:Europe/London
BEGIN:DAYLIGHT
TZOFFSETFROM:+0000
TZOFFSETTO:+0100
TZNAME:BST
DTSTART:20240331T010000
END:DAYLIGHT
BEGIN:STANDARD
TZOFFSETFROM:+0100
TZOFFSETTO:+0000
TZNAME:GMT
DTSTART:20241027T010000
END:STANDARD
END:VTIMEZONE
BEGIN:VEVENT
DTSTART;VALUE=DATE:20240414
DTEND;VALUE=DATE:20240415
DTSTAMP:20260423T015624
CREATED:20240410T124607Z
LAST-MODIFIED:20240410T125931Z
UID:7431-1713052800-1713139199@www.subcdivers.co.uk
SUMMARY:Liverpool Docks( Dukes Dock)14th April
DESCRIPTION:we have an invite to dive at Dukes Dock\,Liverpool Docks this coming Sunday 14th April.Normally it requires a license but we are special guests.Open to qualified Ocean Divers and above.Please liaise with event organiser for more details.Meeting time prior to 09:00.(See Chris H)
URL:https://www.subcdivers.co.uk/event/liverpool-docks-dukes-dock14th-april/
CATEGORIES:Dive trip
ATTACH;FMTTYPE=image/jpeg:https://www.subcdivers.co.uk/content/uploads/IMG-20240410-WA0012.jpg
END:VEVENT
BEGIN:VEVENT
DTSTART;TZID=Europe/London:20240426T080000
DTEND;TZID=Europe/London:20240504T170000
DTSTAMP:20260423T015624
CREATED:20230409T182902Z
LAST-MODIFIED:20230409T183725Z
UID:6583-1714118400-1714842000@www.subcdivers.co.uk
SUMMARY:Diving Cyprus 2024
DESCRIPTION:Cyprus Diving Trip\n8 Nights inc Bed and Breakfast\n£433.00  (£75.00 deposit required before 20th April 2023) monthly payments can be made for the remaining balance\nPlus any additional cost for Diving. \nRequirements:\nFull member of Sub C Divers (or friend / family of member attending)\nFull BSAC current membership\nFiled completed BSAC Medical. \nOne wreck of interest – The Zenobia Wreck is one of the top ten wreck dives in The World\, as voted by divers each year. She sank on 7th June 1980\, and rests on her port side between 19m and 42m. MS Zenobia was a Swedish built Challenger-class RO-RO ferry 172m long\, and sank with over 100 vehicles and lorries.If you’re interested in going please RSVP and speak to Michelle. \n 
URL:https://www.subcdivers.co.uk/event/diving-cyprus-2024/
LOCATION:Cyprus Dive Trip
CATEGORIES:Dive trip,Social
ATTACH;FMTTYPE=image/jpeg:https://www.subcdivers.co.uk/content/uploads/GOPR0743.jpg
END:VEVENT
END:VCALENDAR