BEGIN:VCALENDAR
VERSION:2.0
PRODID:-//Sub-C-Divers - ECPv6.5.1.5//NONSGML v1.0//EN
CALSCALE:GREGORIAN
METHOD:PUBLISH
X-WR-CALNAME:Sub-C-Divers
X-ORIGINAL-URL:https://www.subcdivers.co.uk
X-WR-CALDESC:Events for Sub-C-Divers
REFRESH-INTERVAL;VALUE=DURATION:PT1H
X-Robots-Tag:noindex
X-PUBLISHED-TTL:PT1H
BEGIN:VTIMEZONE
TZID:Europe/London
BEGIN:DAYLIGHT
TZOFFSETFROM:+0000
TZOFFSETTO:+0100
TZNAME:BST
DTSTART:20240331T010000
END:DAYLIGHT
BEGIN:STANDARD
TZOFFSETFROM:+0100
TZOFFSETTO:+0000
TZNAME:GMT
DTSTART:20241027T010000
END:STANDARD
END:VTIMEZONE
BEGIN:VEVENT
DTSTART;TZID=Europe/London:20240329T090000
DTEND;TZID=Europe/London:20240329T170000
DTSTAMP:20260423T031720
CREATED:20240119T111541Z
LAST-MODIFIED:20240228T180615Z
UID:7196-1711702800-1711731600@www.subcdivers.co.uk
SUMMARY:Easter Egg hunt Good Friday
DESCRIPTION:GOOD FRIDAY EASTER EGG HUNT – 29TH March2024 \nWe will be running the Egg Hunt as per our Sub C Divers tradition on Good Friday! We have missed a couple of years due to Covid – but we are back! We also welcome our friends from Bury club too! \nThe day starts when Capernwray opens at 10 am – we will be doing the underwater egg hunt\, depths suitable for all qualified divers\,  and we also have an above water egg hunt and games for the children. Non-divers and family are very welcome. \nStandard Capernray entry price for Divers apply.\nNon divers are free to enter Capernwray. \nAs usual we will have soup\, hot dogs\, hot pot (veggie option available)\, apple pie and hot drinks – all included for the price of £6 for adults and £2.50 for children (aged 13 – 18\, younger children are free) \nThere will be prizes for egg hunt winners and bonus eggs for all\, also a raffle too – donations of any unwanted Christmas gifts will be great – we will find them a lovely new home!!! \nI hope you will all support the day\, if you do not already have Easter bank holiday plans\, we are usually lucky with the weather – we have previously had some lovely sunny Spring days …. so fingers crossed xxx \nPlease sign up with total numbers (including reduced price children) for the event on the website – I will be looking to collect money at the beginning of March\, so I can confirm numbers and pay up front for the food and shopping.
URL:https://www.subcdivers.co.uk/event/easter-egg-hunt-good-friday/
LOCATION:Capernwray\, Jackdaw Quarry\, Capernwray Rd\,\, Carnforth\, LA6 1AD\, United Kingdom
CATEGORIES:Dive trip,Social
ATTACH;FMTTYPE=image/jpeg:https://www.subcdivers.co.uk/content/uploads/p-24684-easteregghunt-e1645633127757.jpg
END:VEVENT
END:VCALENDAR