BEGIN:VCALENDAR
VERSION:2.0
PRODID:-//Sub-C-Divers - ECPv6.5.1.5//NONSGML v1.0//EN
CALSCALE:GREGORIAN
METHOD:PUBLISH
X-WR-CALNAME:Sub-C-Divers
X-ORIGINAL-URL:https://www.subcdivers.co.uk
X-WR-CALDESC:Events for Sub-C-Divers
REFRESH-INTERVAL;VALUE=DURATION:PT1H
X-Robots-Tag:noindex
X-PUBLISHED-TTL:PT1H
BEGIN:VTIMEZONE
TZID:Europe/London
BEGIN:DAYLIGHT
TZOFFSETFROM:+0000
TZOFFSETTO:+0100
TZNAME:BST
DTSTART:20230326T010000
END:DAYLIGHT
BEGIN:STANDARD
TZOFFSETFROM:+0100
TZOFFSETTO:+0000
TZNAME:GMT
DTSTART:20231029T010000
END:STANDARD
END:VTIMEZONE
BEGIN:VEVENT
DTSTART;VALUE=DATE:20231007
DTEND;VALUE=DATE:20231008
DTSTAMP:20260425T115516
CREATED:20230308T005859Z
LAST-MODIFIED:20230308T113528Z
UID:6362-1696636800-1696723199@www.subcdivers.co.uk
SUMMARY:Wilt wreck weekend Sat 7th October
DESCRIPTION:This looks to be just about the best NEAPS tide of the year…I’ve booked the RIB for Sat 7th and Sun 8th October. 2 events. As the tides are great I’m hoping to do our favourite wrecks. Saturday 7th will be The Kincorth. It’s an old fishing trawler….covered in life depth 25m to 30m to seabed. Broken up\, but still good structure and beautiful.Experienced Sport Divers level. Costs\, Boat fee is £10.00 per day\, plus share of fuel or launch fees. \n( Featured image is Ian (Wilt) looking through the anemone covered net hoop) \n  \n  \nFull upto date branch membership\, unto date BSAC membership and filed Medical.
URL:https://www.subcdivers.co.uk/event/wilt-wreck-weekend-sat-7th-october/
CATEGORIES:Dive trip with RIB
ATTACH;FMTTYPE=image/png:https://www.subcdivers.co.uk/content/uploads/wilt-2.png
END:VEVENT
BEGIN:VEVENT
DTSTART;VALUE=DATE:20231008
DTEND;VALUE=DATE:20231009
DTSTAMP:20260425T115516
CREATED:20230308T011354Z
LAST-MODIFIED:20230308T113013Z
UID:6365-1696723200-1696809599@www.subcdivers.co.uk
SUMMARY:Wilts wreck weekend 8th October part 2
DESCRIPTION:As mentioned for the day before\, great Neaps.tides… I’m hoping to dive another of our favourite wrecks on the Sunday 8th October.The Cartagena\, another stunning wreck\, that stands upright and intact on the seabed at a depth of 37m.Top of wreck is around 27m\, so again Experienced Sport diver level.Beautiful wreck\, covered in life.Costs\, £10 boat club fees\, plus share of fuel and launch fees if required. \nFull upto date branch membership\, unto date BSAC membership and filed Medical. \n  \n(inset pic me\, Hanging off the side and a view of the prop) Beautiful.
URL:https://www.subcdivers.co.uk/event/wilts-wreck-weekend-8th-october-part-2/
CATEGORIES:Dive trip with RIB
ATTACH;FMTTYPE=image/jpeg:https://www.subcdivers.co.uk/content/uploads/IMG-20180922-WA0011.jpg
END:VEVENT
END:VCALENDAR