BEGIN:VCALENDAR
VERSION:2.0
PRODID:-//Sub-C-Divers - ECPv6.5.1.5//NONSGML v1.0//EN
CALSCALE:GREGORIAN
METHOD:PUBLISH
X-ORIGINAL-URL:https://www.subcdivers.co.uk
X-WR-CALDESC:Events for Sub-C-Divers
REFRESH-INTERVAL;VALUE=DURATION:PT1H
X-Robots-Tag:noindex
X-PUBLISHED-TTL:PT1H
BEGIN:VTIMEZONE
TZID:Europe/London
BEGIN:DAYLIGHT
TZOFFSETFROM:+0000
TZOFFSETTO:+0100
TZNAME:BST
DTSTART:20230326T010000
END:DAYLIGHT
BEGIN:STANDARD
TZOFFSETFROM:+0100
TZOFFSETTO:+0000
TZNAME:GMT
DTSTART:20231029T010000
END:STANDARD
END:VTIMEZONE
BEGIN:VEVENT
DTSTART;VALUE=DATE:20230910
DTEND;VALUE=DATE:20230911
DTSTAMP:20260425T132905
CREATED:20230905T225916Z
LAST-MODIFIED:20230905T225916Z
UID:6849-1694304000-1694390399@www.subcdivers.co.uk
SUMMARY:Sun 10th Sept Rib Dive
DESCRIPTION:The forcast is nice\,and been settled all week.If anyone fancies a rib dive\,here’s a chance.Looking towards a nice wreck around ocean diver level.Whomever signs up and weather will as always  dictate.Shout out for any questions or further info…
URL:https://www.subcdivers.co.uk/event/sun-10th-sept-rib-dive/
CATEGORIES:Boat / Rib Day,Dive trip with RIB
ATTACH;FMTTYPE=image/png:https://www.subcdivers.co.uk/content/uploads/wilt-9.png
END:VEVENT
END:VCALENDAR